View In:
ArcGIS JavaScript
ArcGIS Online Map Viewer
ArcGIS Earth
ArcMap
View Footprint In:
ArcGIS Online Map Viewer
Service Description: This dataset represents the complete Bouguer gravity anomaly (density 2.8 g/cc) for New Brunswick, derived from the GGMplus satellite gravity model and gridded at 100-meter resolution in NAD83 NB Stereographic projection.The dataset provides the complete Bouguer anomaly calculated from the GGMplus satellite gravity model. The anomaly incorporates both Bouguer and terrain corrections using a reduction density of 2.8 g/cc, providing a more accurate representation of subsurface density variations. This dataset is suitable for geological and structural interpretation, regional mapping, and mineral exploration studies across New Brunswick. It is provided in NAD83 NB Stereographic double projection with high-resolution coverage.The dataset was generated using the GGMplus satellite gravity model, which supplies Free Air anomalies. Bouguer corrections were calculated using SRTM topography and a density of 2.8 g/cc, followed by computation of terrain corrections. The complete Bouguer anomaly grid was then produced, resampled to 100 meters, and projected into NAD83 NB Stereographic to create the dataset.Data created Sept 2025.
Name: Geophysics_Gravity_Gradiometry_Compiled/Satellite_CompleteBoug28
Description: This dataset represents the complete Bouguer gravity anomaly (density 2.8 g/cc) for New Brunswick, derived from the GGMplus satellite gravity model and gridded at 100-meter resolution in NAD83 NB Stereographic projection.The dataset provides the complete Bouguer anomaly calculated from the GGMplus satellite gravity model. The anomaly incorporates both Bouguer and terrain corrections using a reduction density of 2.8 g/cc, providing a more accurate representation of subsurface density variations. This dataset is suitable for geological and structural interpretation, regional mapping, and mineral exploration studies across New Brunswick. It is provided in NAD83 NB Stereographic double projection with high-resolution coverage.The dataset was generated using the GGMplus satellite gravity model, which supplies Free Air anomalies. Bouguer corrections were calculated using SRTM topography and a density of 2.8 g/cc, followed by computation of terrain corrections. The complete Bouguer anomaly grid was then produced, resampled to 100 meters, and projected into NAD83 NB Stereographic to create the dataset.Data created Sept 2025.
Single Fused Map Cache: false
Extent:
XMin: 2221450.0
YMin: 7177550.0
XMax: 2734450.0
YMax: 7833650.0
Spatial Reference: 2036
(2953)
LatestVCSWkid(0)
Initial Extent:
XMin: 2221450.0
YMin: 7177550.0
XMax: 2734450.0
YMax: 7833650.0
Spatial Reference: 2036
(2953)
LatestVCSWkid(0)
Full Extent:
XMin: 2221450.0
YMin: 7177550.0
XMax: 2734450.0
YMax: 7833650.0
Spatial Reference: 2036
(2953)
LatestVCSWkid(0)
Pixel Size X: 100.0
Pixel Size Y: 100.0
Band Count: 1
Pixel Type: F32
RasterFunction Infos: {"rasterFunctionInfos": [{
"name": "None",
"description": "",
"help": ""
}]}
Mensuration Capabilities: Basic
Has Histograms: true
Has Colormap: false
Has Multi Dimensions : false
Rendering Rule:
Min Scale: 0
Max Scale: 0
Copyright Text: NB Dept of Natural Resources, GSB Section
Service Data Type: esriImageServiceDataTypeGeneric
Min Values: -89.376159667969
Max Values: 31.482023239136
Mean Values: -30.672004658988
Standard Deviation Values: 19.44200498325
Object ID Field:
Fields:
None
Default Mosaic Method: Center
Allowed Mosaic Methods:
SortField:
SortValue: null
Mosaic Operator: First
Default Compression Quality: 75
Default Resampling Method: Bilinear
Max Record Count: null
Max Image Height: 4100
Max Image Width: 15000
Max Download Image Count: null
Max Mosaic Image Count: null
Allow Raster Function: true
Allow Copy: true
Allow Analysis: true
Allow Compute TiePoints: false
Supports Statistics: false
Supports Advanced Queries: false
Use StandardizedQueries: true
Raster Type Infos:
Name: Raster Dataset
Description: Supports all ArcGIS Raster Datasets
Help:
Has Raster Attribute Table: false
Edit Fields Info: null
Ownership Based AccessControl For Rasters: null
Child Resources:
Info
Histograms
Statistics
Key Properties
Legend
Raster Function Infos
Supported Operations:
Export Image
Identify
Measure
Compute Histograms
Compute Statistics Histograms
Get Samples
Compute Class Statistics
Query Boundary
Compute Pixel Location
Compute Angles
Validate
Project