View In:
ArcGIS JavaScript
ArcGIS Online Map Viewer
ArcGIS Earth
ArcMap
View Footprint In:
ArcGIS Online Map Viewer
Service Description: This dataset represents the regional component of the complete Bouguer gravity anomaly (density 2.8 g/cc) for New Brunswick, derived from the GGMplus satellite gravity model and gridded at 100-meter resolution in NAD83 NB Stereographic projection.The dataset provides the long-wavelength regional component of the complete Bouguer gravity anomaly calculated from the GGMplus satellite gravity model. This regional anomaly emphasizes broad-scale crustal density variations and suppresses short-wavelength, shallow features. It is intended to support regional geological interpretation, crustal studies, and integration with residual anomaly analyses for mineral exploration. The dataset is provided in NAD83 NB Stereographic double projection with 100-meter grid spacing.The dataset was produced from the GGMplus satellite gravity model, which provides Free Air anomalies. Bouguer corrections and terrain corrections were applied using SRTM topography and a density of 2.8 g/cc to produce the complete Bouguer anomaly grid. The regional component was then obtained by applying an upward continuation filter to isolate long-wavelength gravity variations. The final grid was resampled to 100 meters and projected into NAD83 NB Stereographic, producing the dataset.Data created Sept 2025.
Name: Geophysics_Gravity_Gradiometry_Compiled/Satellite_CompleteBoug28_regional
Description: This dataset represents the regional component of the complete Bouguer gravity anomaly (density 2.8 g/cc) for New Brunswick, derived from the GGMplus satellite gravity model and gridded at 100-meter resolution in NAD83 NB Stereographic projection.The dataset provides the long-wavelength regional component of the complete Bouguer gravity anomaly calculated from the GGMplus satellite gravity model. This regional anomaly emphasizes broad-scale crustal density variations and suppresses short-wavelength, shallow features. It is intended to support regional geological interpretation, crustal studies, and integration with residual anomaly analyses for mineral exploration. The dataset is provided in NAD83 NB Stereographic double projection with 100-meter grid spacing.The dataset was produced from the GGMplus satellite gravity model, which provides Free Air anomalies. Bouguer corrections and terrain corrections were applied using SRTM topography and a density of 2.8 g/cc to produce the complete Bouguer anomaly grid. The regional component was then obtained by applying an upward continuation filter to isolate long-wavelength gravity variations. The final grid was resampled to 100 meters and projected into NAD83 NB Stereographic, producing the dataset.Data created Sept 2025.
Single Fused Map Cache: false
Extent:
XMin: 2221450.0
YMin: 7177550.0
XMax: 2734450.0
YMax: 7833650.0
Spatial Reference: 2036
(2953)
LatestVCSWkid(0)
Initial Extent:
XMin: 2221450.0
YMin: 7177550.0
XMax: 2734450.0
YMax: 7833650.0
Spatial Reference: 2036
(2953)
LatestVCSWkid(0)
Full Extent:
XMin: 2221450.0
YMin: 7177550.0
XMax: 2734450.0
YMax: 7833650.0
Spatial Reference: 2036
(2953)
LatestVCSWkid(0)
Pixel Size X: 100.0
Pixel Size Y: 100.0
Band Count: 1
Pixel Type: F32
RasterFunction Infos: {"rasterFunctionInfos": [{
"name": "None",
"description": "",
"help": ""
}]}
Mensuration Capabilities: Basic
Has Histograms: true
Has Colormap: false
Has Multi Dimensions : false
Rendering Rule:
Min Scale: 0
Max Scale: 0
Copyright Text: NB Dept of Natural Resources, GSB Section
Service Data Type: esriImageServiceDataTypeGeneric
Min Values: -62.794147491455
Max Values: -7.1731262207031
Mean Values: -32.071046339815
Standard Deviation Values: 13.551778139497
Object ID Field:
Fields:
None
Default Mosaic Method: Center
Allowed Mosaic Methods:
SortField:
SortValue: null
Mosaic Operator: First
Default Compression Quality: 75
Default Resampling Method: Bilinear
Max Record Count: null
Max Image Height: 4100
Max Image Width: 15000
Max Download Image Count: null
Max Mosaic Image Count: null
Allow Raster Function: true
Allow Copy: true
Allow Analysis: true
Allow Compute TiePoints: false
Supports Statistics: false
Supports Advanced Queries: false
Use StandardizedQueries: true
Raster Type Infos:
Name: Raster Dataset
Description: Supports all ArcGIS Raster Datasets
Help:
Has Raster Attribute Table: false
Edit Fields Info: null
Ownership Based AccessControl For Rasters: null
Child Resources:
Info
Histograms
Statistics
Key Properties
Legend
Raster Function Infos
Supported Operations:
Export Image
Identify
Measure
Compute Histograms
Compute Statistics Histograms
Get Samples
Compute Class Statistics
Query Boundary
Compute Pixel Location
Compute Angles
Validate
Project