View In:
ArcGIS JavaScript
ArcGIS Online Map Viewer
ArcGIS Earth
ArcMap
View Footprint In:
ArcGIS Online Map Viewer
Service Description: This dataset represents the processed and tensor-interpolated FTG/AGG gravity tensor component grid for the Bell BMC2010 survey in New Brunswick, gridded at 25-meter resolution in NAD83 NB Stereographic projection.The dataset provides one of the gravity tensor component grids derived from the Bell BMC2010 FTG/AGG survey. The dataset was generated by processing raw gravity gradiometry profile data with a density of 2.8 g/cc, building a tensor from all components, and interpolating it into a regular grid. Individual tensor components were extracted, and from the relevant components, gravity acceleration (Tz) was reconstituted. A Shape Index was calculated from the tensor data to enhance structural interpretation. The dataset supports high-resolution geophysical analysis, structural mapping, and mineral exploration. It is provided in NAD83 NB Stereographic double projection at 25-meter resolution.The dataset was produced from raw AGG/FTG profile data by constructing a gravity tensor using all measured components and interpolating it into a regular 25-meter grid. Individual tensor components were extracted, and the Tz gravity acceleration component was reconstituted from Txz, Tyz, and Tzz. Because AGG/FTG data do not measure long wavelengths, the Tz grid was conformed to the GGMplus satellite gravity by applying a 20 km high-pass filter to the Tz component and a 20 km low-pass filter to the satellite Bouguer field, then combining both. The tensor-derived Shape Index was also calculated to highlight local structural features. The final grids were exported in ER Mapper format.Data created Sept 2025.
Name: Geophysics_Gravity_Gradiometry_Individual_Surveys/Bell_BMC_Km
Description: This dataset represents the processed and tensor-interpolated FTG/AGG gravity tensor component grid for the Bell BMC2010 survey in New Brunswick, gridded at 25-meter resolution in NAD83 NB Stereographic projection.The dataset provides one of the gravity tensor component grids derived from the Bell BMC2010 FTG/AGG survey. The dataset was generated by processing raw gravity gradiometry profile data with a density of 2.8 g/cc, building a tensor from all components, and interpolating it into a regular grid. Individual tensor components were extracted, and from the relevant components, gravity acceleration (Tz) was reconstituted. A Shape Index was calculated from the tensor data to enhance structural interpretation. The dataset supports high-resolution geophysical analysis, structural mapping, and mineral exploration. It is provided in NAD83 NB Stereographic double projection at 25-meter resolution.The dataset was produced from raw AGG/FTG profile data by constructing a gravity tensor using all measured components and interpolating it into a regular 25-meter grid. Individual tensor components were extracted, and the Tz gravity acceleration component was reconstituted from Txz, Tyz, and Tzz. Because AGG/FTG data do not measure long wavelengths, the Tz grid was conformed to the GGMplus satellite gravity by applying a 20 km high-pass filter to the Tz component and a 20 km low-pass filter to the satellite Bouguer field, then combining both. The tensor-derived Shape Index was also calculated to highlight local structural features. The final grids were exported in ER Mapper format.Data created Sept 2025.
Single Fused Map Cache: false
Extent:
XMin: 2493087.5
YMin: 7563237.5
XMax: 2562387.5
YMax: 7627912.5
Spatial Reference: 2036
(2953)
LatestVCSWkid(0)
Initial Extent:
XMin: 2493087.5
YMin: 7563237.5
XMax: 2562387.5
YMax: 7627912.5
Spatial Reference: 2036
(2953)
LatestVCSWkid(0)
Full Extent:
XMin: 2493087.5
YMin: 7563237.5
XMax: 2562387.5
YMax: 7627912.5
Spatial Reference: 2036
(2953)
LatestVCSWkid(0)
Pixel Size X: 25.0
Pixel Size Y: 25.0
Band Count: 1
Pixel Type: F32
RasterFunction Infos: {"rasterFunctionInfos": [{
"name": "None",
"description": "",
"help": ""
}]}
Mensuration Capabilities: Basic
Has Histograms: true
Has Colormap: false
Has Multi Dimensions : false
Rendering Rule:
Min Scale: 0
Max Scale: 0
Copyright Text: NB Dept of Natural Resources, GSB Section
Service Data Type: esriImageServiceDataTypeGeneric
Min Values: -25719008
Max Values: 2544479.25
Mean Values: -4.1456887417285
Standard Deviation Values: 12299.857293132
Object ID Field:
Fields:
None
Default Mosaic Method: Center
Allowed Mosaic Methods:
SortField:
SortValue: null
Mosaic Operator: First
Default Compression Quality: 75
Default Resampling Method: Bilinear
Max Record Count: null
Max Image Height: 4100
Max Image Width: 15000
Max Download Image Count: null
Max Mosaic Image Count: null
Allow Raster Function: true
Allow Copy: true
Allow Analysis: true
Allow Compute TiePoints: false
Supports Statistics: false
Supports Advanced Queries: false
Use StandardizedQueries: true
Raster Type Infos:
Name: Raster Dataset
Description: Supports all ArcGIS Raster Datasets
Help:
Has Raster Attribute Table: false
Edit Fields Info: null
Ownership Based AccessControl For Rasters: null
Child Resources:
Info
Histograms
Statistics
Key Properties
Legend
Raster Function Infos
Supported Operations:
Export Image
Identify
Measure
Compute Histograms
Compute Statistics Histograms
Get Samples
Compute Class Statistics
Query Boundary
Compute Pixel Location
Compute Angles
Validate
Project