View In:
ArcGIS JavaScript
ArcGIS Online Map Viewer
ArcGIS Earth
ArcMap
View Footprint In:
ArcGIS Online Map Viewer
Service Description: This dataset represents the Shape Index derived from the FTG/AGG gravity tensor for the Bell BMC2010 survey in New Brunswick, gridded at 25-meter resolution in NAD83 NB Stereographic projection.The dataset provides the Shape Index calculated from the gravity tensor components of the Bell BMC2010 FTG/AGG survey. The Shape Index quantifies the geometric characteristics of the local gravity field, highlighting near-surface structural features such as faults, contacts, and intrusive bodies. The dataset is intended for detailed structural interpretation and mineral exploration and is provided in NAD83 NB Stereographic double projection with high-resolution 25-meter spacing.The dataset was produced from the Bell BMC2010 FTG/AGG survey by first constructing the gravity tensor from the raw gradiometry profile data and interpolating it into a regular 25-meter grid. Individual tensor components (Txx, Txy, Txz, Tyy, Tyz, Tzz) were extracted, and the Shape Index was calculated following the method of Cevallos (2014). The final Shape Index grid was exported in ER Mapper format, providing a high-resolution measure of the local curvature and geometry of the gravity field.Data created Sept 2025.
Name: Geophysics_Gravity_Gradiometry_Individual_Surveys/Bell_BMC_SI
Description: This dataset represents the Shape Index derived from the FTG/AGG gravity tensor for the Bell BMC2010 survey in New Brunswick, gridded at 25-meter resolution in NAD83 NB Stereographic projection.The dataset provides the Shape Index calculated from the gravity tensor components of the Bell BMC2010 FTG/AGG survey. The Shape Index quantifies the geometric characteristics of the local gravity field, highlighting near-surface structural features such as faults, contacts, and intrusive bodies. The dataset is intended for detailed structural interpretation and mineral exploration and is provided in NAD83 NB Stereographic double projection with high-resolution 25-meter spacing.The dataset was produced from the Bell BMC2010 FTG/AGG survey by first constructing the gravity tensor from the raw gradiometry profile data and interpolating it into a regular 25-meter grid. Individual tensor components (Txx, Txy, Txz, Tyy, Tyz, Tzz) were extracted, and the Shape Index was calculated following the method of Cevallos (2014). The final Shape Index grid was exported in ER Mapper format, providing a high-resolution measure of the local curvature and geometry of the gravity field.Data created Sept 2025.
Single Fused Map Cache: false
Extent:
XMin: 2493087.5
YMin: 7563237.5
XMax: 2562387.5
YMax: 7627912.5
Spatial Reference: 2036
(2953)
LatestVCSWkid(0)
Initial Extent:
XMin: 2493087.5
YMin: 7563237.5
XMax: 2562387.5
YMax: 7627912.5
Spatial Reference: 2036
(2953)
LatestVCSWkid(0)
Full Extent:
XMin: 2493087.5
YMin: 7563237.5
XMax: 2562387.5
YMax: 7627912.5
Spatial Reference: 2036
(2953)
LatestVCSWkid(0)
Pixel Size X: 25.0
Pixel Size Y: 25.0
Band Count: 1
Pixel Type: F32
RasterFunction Infos: {"rasterFunctionInfos": [{
"name": "None",
"description": "",
"help": ""
}]}
Mensuration Capabilities: Basic
Has Histograms: true
Has Colormap: false
Has Multi Dimensions : false
Rendering Rule:
Min Scale: 0
Max Scale: 0
Copyright Text: NB Dept of Natural Resources, GSB Section
Service Data Type: esriImageServiceDataTypeGeneric
Min Values: -0.99928796291351
Max Values: 0.99964928627014
Mean Values: -0.059869996624948
Standard Deviation Values: 0.50713031868728
Object ID Field:
Fields:
None
Default Mosaic Method: Center
Allowed Mosaic Methods:
SortField:
SortValue: null
Mosaic Operator: First
Default Compression Quality: 75
Default Resampling Method: Bilinear
Max Record Count: null
Max Image Height: 4100
Max Image Width: 15000
Max Download Image Count: null
Max Mosaic Image Count: null
Allow Raster Function: true
Allow Copy: true
Allow Analysis: true
Allow Compute TiePoints: false
Supports Statistics: false
Supports Advanced Queries: false
Use StandardizedQueries: true
Raster Type Infos:
Name: Raster Dataset
Description: Supports all ArcGIS Raster Datasets
Help:
Has Raster Attribute Table: false
Edit Fields Info: null
Ownership Based AccessControl For Rasters: null
Child Resources:
Info
Histograms
Statistics
Key Properties
Legend
Raster Function Infos
Supported Operations:
Export Image
Identify
Measure
Compute Histograms
Compute Statistics Histograms
Get Samples
Compute Class Statistics
Query Boundary
Compute Pixel Location
Compute Angles
Validate
Project