View In:
ArcGIS JavaScript
ArcGIS Online Map Viewer
ArcGIS Earth
ArcMap
View Footprint In:
ArcGIS Online Map Viewer
Service Description: This dataset represents the Txx component of the gravity tensor derived from the Bell BMC2010 FTG/AGG survey in New Brunswick, gridded at 25-meter resolution in NAD83 NB Stereographic projection.The dataset provides the Txx tensor component extracted from the processed gravity gradiometry data of the Bell BMC2010 FTG/AGG survey. The Txx component captures variations in the second derivative of the gravity field along the X-axis, which can be used to infer subsurface density contrasts and structural features. The dataset supports high-resolution geophysical interpretation, structural mapping, and mineral exploration. It is provided in NAD83 NB Stereographic double projection with a 25-meter grid spacing.The dataset was produced by constructing a gravity tensor from the Bell BMC2010 FTG/AGG raw profile data processed with a density of 2.8 g/cc and interpolating the tensor into a regular 25-meter grid. The Txx component was extracted from the full tensor, representing the second derivative of gravity along the X-axis. The final Txx grid was exported in ER Mapper format for use in geophysical analysis and interpretation.Data created Sept 2025.
Name: Geophysics_Gravity_Gradiometry_Individual_Surveys/Bell_BMC_Txx
Description: This dataset represents the Txx component of the gravity tensor derived from the Bell BMC2010 FTG/AGG survey in New Brunswick, gridded at 25-meter resolution in NAD83 NB Stereographic projection.The dataset provides the Txx tensor component extracted from the processed gravity gradiometry data of the Bell BMC2010 FTG/AGG survey. The Txx component captures variations in the second derivative of the gravity field along the X-axis, which can be used to infer subsurface density contrasts and structural features. The dataset supports high-resolution geophysical interpretation, structural mapping, and mineral exploration. It is provided in NAD83 NB Stereographic double projection with a 25-meter grid spacing.The dataset was produced by constructing a gravity tensor from the Bell BMC2010 FTG/AGG raw profile data processed with a density of 2.8 g/cc and interpolating the tensor into a regular 25-meter grid. The Txx component was extracted from the full tensor, representing the second derivative of gravity along the X-axis. The final Txx grid was exported in ER Mapper format for use in geophysical analysis and interpretation.Data created Sept 2025.
Single Fused Map Cache: false
Extent:
XMin: 2493087.5
YMin: 7563237.5
XMax: 2562387.5
YMax: 7627912.5
Spatial Reference: 2036
(2953)
LatestVCSWkid(0)
Initial Extent:
XMin: 2493087.5
YMin: 7563237.5
XMax: 2562387.5
YMax: 7627912.5
Spatial Reference: 2036
(2953)
LatestVCSWkid(0)
Full Extent:
XMin: 2493087.5
YMin: 7563237.5
XMax: 2562387.5
YMax: 7627912.5
Spatial Reference: 2036
(2953)
LatestVCSWkid(0)
Pixel Size X: 25.0
Pixel Size Y: 25.0
Band Count: 1
Pixel Type: F32
RasterFunction Infos: {"rasterFunctionInfos": [{
"name": "None",
"description": "",
"help": ""
}]}
Mensuration Capabilities: Basic
Has Histograms: true
Has Colormap: false
Has Multi Dimensions : false
Rendering Rule:
Min Scale: 0
Max Scale: 0
Copyright Text: NB Dept of Natural Resources, GSB Section
Service Data Type: esriImageServiceDataTypeGeneric
Min Values: -92.268127441406
Max Values: 69.36791229248
Mean Values: -0.69098917169488
Standard Deviation Values: 15.215479772708
Object ID Field:
Fields:
None
Default Mosaic Method: Center
Allowed Mosaic Methods:
SortField:
SortValue: null
Mosaic Operator: First
Default Compression Quality: 75
Default Resampling Method: Bilinear
Max Record Count: null
Max Image Height: 4100
Max Image Width: 15000
Max Download Image Count: null
Max Mosaic Image Count: null
Allow Raster Function: true
Allow Copy: true
Allow Analysis: true
Allow Compute TiePoints: false
Supports Statistics: false
Supports Advanced Queries: false
Use StandardizedQueries: true
Raster Type Infos:
Name: Raster Dataset
Description: Supports all ArcGIS Raster Datasets
Help:
Has Raster Attribute Table: false
Edit Fields Info: null
Ownership Based AccessControl For Rasters: null
Child Resources:
Info
Histograms
Statistics
Key Properties
Legend
Raster Function Infos
Supported Operations:
Export Image
Identify
Measure
Compute Histograms
Compute Statistics Histograms
Get Samples
Compute Class Statistics
Query Boundary
Compute Pixel Location
Compute Angles
Validate
Project