View In:
ArcGIS JavaScript
ArcGIS Online Map Viewer
ArcGIS Earth
ArcMap
View Footprint In:
ArcGIS Online Map Viewer
Service Description: This dataset represents the Txy component of the gravity tensor derived from the Bell BMC2010 FTG/AGG survey in New Brunswick, gridded at 25 m resolution in NAD83 NB Stereographic projection.The dataset contains the Txy tensor component computed from the processed Full Tensor Gravity (FTG) data collected during the Bell BMC2010 survey. The Txy component represents the mixed second derivative of the gravity field with respect to the X and Y directions, making it sensitive to lateral changes in subsurface density and structural boundaries. This dataset supports high-resolution interpretation of geological features such as contacts, faults, intrusive margins, and alteration zones. It is delivered as a 25 m grid in NAD83 New Brunswick Stereographic projection.This dataset was generated by reconstructing the full gravity tensor from the Bell BMC2010 FTG profile data, processed using a density of 2.8 g/cc. The reconstructed tensor was gridded at 25 m cell size, and the Txy component—representing the cross-derivative of the gravity field—was extracted from the full tensor. The final Txy grid was exported in ER Mapper format for geophysical mapping, modelling, and mineral exploration analysis.Data created Sept 2025.
Name: Geophysics_Gravity_Gradiometry_Individual_Surveys/Bell_BMC_Txy
Description: This dataset represents the Txy component of the gravity tensor derived from the Bell BMC2010 FTG/AGG survey in New Brunswick, gridded at 25 m resolution in NAD83 NB Stereographic projection.The dataset contains the Txy tensor component computed from the processed Full Tensor Gravity (FTG) data collected during the Bell BMC2010 survey. The Txy component represents the mixed second derivative of the gravity field with respect to the X and Y directions, making it sensitive to lateral changes in subsurface density and structural boundaries. This dataset supports high-resolution interpretation of geological features such as contacts, faults, intrusive margins, and alteration zones. It is delivered as a 25 m grid in NAD83 New Brunswick Stereographic projection.This dataset was generated by reconstructing the full gravity tensor from the Bell BMC2010 FTG profile data, processed using a density of 2.8 g/cc. The reconstructed tensor was gridded at 25 m cell size, and the Txy component—representing the cross-derivative of the gravity field—was extracted from the full tensor. The final Txy grid was exported in ER Mapper format for geophysical mapping, modelling, and mineral exploration analysis.Data created Sept 2025.
Single Fused Map Cache: false
Extent:
XMin: 2493087.5
YMin: 7563237.5
XMax: 2562387.5
YMax: 7627912.5
Spatial Reference: 2036
(2953)
LatestVCSWkid(0)
Initial Extent:
XMin: 2493087.5
YMin: 7563237.5
XMax: 2562387.5
YMax: 7627912.5
Spatial Reference: 2036
(2953)
LatestVCSWkid(0)
Full Extent:
XMin: 2493087.5
YMin: 7563237.5
XMax: 2562387.5
YMax: 7627912.5
Spatial Reference: 2036
(2953)
LatestVCSWkid(0)
Pixel Size X: 25.0
Pixel Size Y: 25.0
Band Count: 1
Pixel Type: F32
RasterFunction Infos: {"rasterFunctionInfos": [{
"name": "None",
"description": "",
"help": ""
}]}
Mensuration Capabilities: Basic
Has Histograms: true
Has Colormap: false
Has Multi Dimensions : false
Rendering Rule:
Min Scale: 0
Max Scale: 0
Copyright Text: NB Dept of Natural Resources, GSB Section
Service Data Type: esriImageServiceDataTypeGeneric
Min Values: -39.265197753906
Max Values: 42.772983551025
Mean Values: 0.089828671362465
Standard Deviation Values: 7.3760723380434
Object ID Field:
Fields:
None
Default Mosaic Method: Center
Allowed Mosaic Methods:
SortField:
SortValue: null
Mosaic Operator: First
Default Compression Quality: 75
Default Resampling Method: Bilinear
Max Record Count: null
Max Image Height: 4100
Max Image Width: 15000
Max Download Image Count: null
Max Mosaic Image Count: null
Allow Raster Function: true
Allow Copy: true
Allow Analysis: true
Allow Compute TiePoints: false
Supports Statistics: false
Supports Advanced Queries: false
Use StandardizedQueries: true
Raster Type Infos:
Name: Raster Dataset
Description: Supports all ArcGIS Raster Datasets
Help:
Has Raster Attribute Table: false
Edit Fields Info: null
Ownership Based AccessControl For Rasters: null
Child Resources:
Info
Histograms
Statistics
Key Properties
Legend
Raster Function Infos
Supported Operations:
Export Image
Identify
Measure
Compute Histograms
Compute Statistics Histograms
Get Samples
Compute Class Statistics
Query Boundary
Compute Pixel Location
Compute Angles
Validate
Project