View In:
ArcGIS JavaScript
ArcGIS Online Map Viewer
ArcGIS Earth
ArcMap
View Footprint In:
ArcGIS Online Map Viewer
Service Description: A 250 m grid of airborne radiometric potassium (K) concentrations for the Mount Pleasant Caldera (West) survey area, New Brunswick (1988).
This dataset represents potassium (K) concentrations measured during the Mount Pleasant Caldera (West) airborne radiometric survey flown in 1988 at 250 m line spacing. Potassium values are derived from gamma-ray spectrometry measurements and reflect near-surface lithology and alteration patterns within the survey area. The dataset is provided in NB Stereographic double (NAD83) for consistent integration with provincial datasets
The MountPleasant_K raster was produced by microlevelling line-to-line variations in the original survey data and interpolating the results to a seamless 250 m grid. The final raster was delivered as a .ers file in NB Stereographic double (NAD83)
Name: Geophysics_Radiometric_Individual/MountPleasant_K
Description: A 250 m grid of airborne radiometric potassium (K) concentrations for the Mount Pleasant Caldera (West) survey area, New Brunswick (1988).
This dataset represents potassium (K) concentrations measured during the Mount Pleasant Caldera (West) airborne radiometric survey flown in 1988 at 250 m line spacing. Potassium values are derived from gamma-ray spectrometry measurements and reflect near-surface lithology and alteration patterns within the survey area. The dataset is provided in NB Stereographic double (NAD83) for consistent integration with provincial datasets
The MountPleasant_K raster was produced by microlevelling line-to-line variations in the original survey data and interpolating the results to a seamless 250 m grid. The final raster was delivered as a .ers file in NB Stereographic double (NAD83)
Single Fused Map Cache: false
Extent:
XMin: 2461475.0
YMin: 7374225.0
XMax: 2498475.0
YMax: 7402675.0
Spatial Reference: 2036
(2953)
LatestVCSWkid(0)
Initial Extent:
XMin: 2461475.0
YMin: 7374225.0
XMax: 2498475.0
YMax: 7402675.0
Spatial Reference: 2036
(2953)
LatestVCSWkid(0)
Full Extent:
XMin: 2461475.0
YMin: 7374225.0
XMax: 2498475.0
YMax: 7402675.0
Spatial Reference: 2036
(2953)
LatestVCSWkid(0)
Pixel Size X: 50.0
Pixel Size Y: 50.0
Band Count: 1
Pixel Type: F32
RasterFunction Infos: {"rasterFunctionInfos": [{
"name": "None",
"description": "",
"help": ""
}]}
Mensuration Capabilities: Basic
Has Histograms: true
Has Colormap: false
Has Multi Dimensions : false
Rendering Rule:
Min Scale: 0
Max Scale: 0
Copyright Text: NB Dept of Natural Resources, GSB Section
Service Data Type: esriImageServiceDataTypeGeneric
Min Values: -0.16280734539032
Max Values: 4.1376061439514
Mean Values: 1.1171957776426
Standard Deviation Values: 0.5792825435851
Object ID Field:
Fields:
None
Default Mosaic Method: Center
Allowed Mosaic Methods:
SortField:
SortValue: null
Mosaic Operator: First
Default Compression Quality: 75
Default Resampling Method: Bilinear
Max Record Count: null
Max Image Height: 4100
Max Image Width: 15000
Max Download Image Count: null
Max Mosaic Image Count: null
Allow Raster Function: true
Allow Copy: true
Allow Analysis: true
Allow Compute TiePoints: false
Supports Statistics: false
Supports Advanced Queries: false
Use StandardizedQueries: true
Raster Type Infos:
Name: Raster Dataset
Description: Supports all ArcGIS Raster Datasets
Help:
Has Raster Attribute Table: false
Edit Fields Info: null
Ownership Based AccessControl For Rasters: null
Child Resources:
Info
Histograms
Statistics
Key Properties
Legend
Raster Function Infos
Supported Operations:
Export Image
Identify
Measure
Compute Histograms
Compute Statistics Histograms
Get Samples
Compute Class Statistics
Query Boundary
Compute Pixel Location
Compute Angles
Validate
Project