View In:
ArcGIS JavaScript
ArcGIS Online Map Viewer
ArcGIS Earth
ArcMap
View Footprint In:
ArcGIS Online Map Viewer
Service Description: Located on the Image Server E:\ImageServices\LakeDepth\FW_Lakes.gdb\LakeDepthRasters and Overviews stored on the R: Drive - \\Swv25fsp02\LakeDepth\Depth_Rasters (R:\LakeDepth)1. Description: This mosaic dataset contains interpolated elevation surfaces for lakes across New Brunswick2. Purpose: To provide DNR fisheries staff with mapping information to help guide and answer fisheries resources and management objectives and/ or questions, and from which to provide DNR clients (e.g. anglers) with useful mapping information in the form of lake depth maps with mosaics.3. Access permissions: open to public 4. How was it created? For examples, GPS, digitized from source paper maps at certain scale, or derived from other feature classes.• Mosaic dataset was created by adding in interpolated elevation surfaces. These interpolated surfaces were derived from the SDEOWNER.LakeDepth_Readings feature class which contains the depth information for the lakes. 5. When was it created? and the update frequency• Interpolated elevation surfaces were created in 2017• New information will be added as it is obtained (i.e. as a lake is depth sounded and elevation surface are interpolated)6. Additional information may help users of the data, such as limitations • Of the 1400 named lakes and ponds in NB, less than 300 have depth readings and associated mosaics as of fall 2017. All areas of a lake are not depth sounded; therefore there is some interpretation in the mosaics; as well, the deepest spots or shoals may not be recorded. 7. For each attribute, give a definition/description to explain what the attributes are, and specify the valid range and domain if it applies.• N/A8. Contact information, person or group• Fish and Wildlife• Chris Connell: (506) 444 – 2871 • Krista DeBouver: (506) 444 – 40109. Attaching document, pdf or URL to pdf.
Name: LakeDepthMapping/LakeDepth
Description: Located on the Image Server E:\ImageServices\LakeDepth\FW_Lakes.gdb\LakeDepthRasters and Overviews stored on the R: Drive - \\Swv25fsp02\LakeDepth\Depth_Rasters (R:\LakeDepth)1. Description: This mosaic dataset contains interpolated elevation surfaces for lakes across New Brunswick2. Purpose: To provide DNR fisheries staff with mapping information to help guide and answer fisheries resources and management objectives and/ or questions, and from which to provide DNR clients (e.g. anglers) with useful mapping information in the form of lake depth maps with mosaics.3. Access permissions: open to public 4. How was it created? For examples, GPS, digitized from source paper maps at certain scale, or derived from other feature classes.• Mosaic dataset was created by adding in interpolated elevation surfaces. These interpolated surfaces were derived from the SDEOWNER.LakeDepth_Readings feature class which contains the depth information for the lakes. 5. When was it created? and the update frequency• Interpolated elevation surfaces were created in 2017• New information will be added as it is obtained (i.e. as a lake is depth sounded and elevation surface are interpolated)6. Additional information may help users of the data, such as limitations • Of the 1400 named lakes and ponds in NB, less than 300 have depth readings and associated mosaics as of fall 2017. All areas of a lake are not depth sounded; therefore there is some interpretation in the mosaics; as well, the deepest spots or shoals may not be recorded. 7. For each attribute, give a definition/description to explain what the attributes are, and specify the valid range and domain if it applies.• N/A8. Contact information, person or group• Fish and Wildlife• Chris Connell: (506) 444 – 2871 • Krista DeBouver: (506) 444 – 40109. Attaching document, pdf or URL to pdf.
Single Fused Map Cache: false
Extent:
XMin: 2306683.2699999996
YMin: 7290540.050000001
XMax: 2675438.2699999996
YMax: 7662986.550000001
Spatial Reference: 2036
(2953)
LatestVCSWkid(0)
Initial Extent:
XMin: 2306683.2699999996
YMin: 7290540.050000001
XMax: 2675438.2699999996
YMax: 7662986.550000001
Spatial Reference: 2036
(2953)
LatestVCSWkid(0)
Full Extent:
XMin: 2306683.2699999996
YMin: 7290540.050000001
XMax: 2675438.2699999996
YMax: 7662986.550000001
Spatial Reference: 2036
(2953)
LatestVCSWkid(0)
Pixel Size X: 0.5
Pixel Size Y: 0.5
Band Count: 1
Pixel Type: F32
RasterFunction Infos: {"rasterFunctionInfos": [
{
"name": "Legend_units",
"description": "A raster function template.",
"help": ""
},
{
"name": "Legend_units",
"description": "A raster function template.",
"help": ""
},
{
"name": "None",
"description": "",
"help": ""
}
]}
Mensuration Capabilities: None
Has Histograms: true
Has Colormap: false
Has Multi Dimensions : false
Rendering Rule:
Min Scale: 0
Max Scale: 0
Copyright Text:
Service Data Type: esriImageServiceDataTypeGeneric
Min Values: -55.684814453125
Max Values: 321.974365234375
Mean Values: -7.216919302844585
Standard Deviation Values: 6.743143327204985
Object ID Field: OBJECTID
Fields:
-
OBJECTID
(
type: esriFieldTypeOID, alias: OBJECTID
)
-
Shape
(
type: esriFieldTypeGeometry, alias: Shape
)
-
Name
(
type: esriFieldTypeString, alias: Name, length: 200
)
-
MinPS
(
type: esriFieldTypeDouble, alias: MinPS
)
-
MaxPS
(
type: esriFieldTypeDouble, alias: MaxPS
)
-
LowPS
(
type: esriFieldTypeDouble, alias: LowPS
)
-
HighPS
(
type: esriFieldTypeDouble, alias: HighPS
)
-
Category
(
type: esriFieldTypeInteger, alias: Category
, Coded Values:
[0: Unknown]
, [1: Primary]
, [2: Overview]
, ...6 more...
)
-
Tag
(
type: esriFieldTypeString, alias: Tag, length: 100
)
-
GroupName
(
type: esriFieldTypeString, alias: GroupName, length: 100
)
-
ProductName
(
type: esriFieldTypeString, alias: ProductName, length: 100
)
-
CenterX
(
type: esriFieldTypeDouble, alias: CenterX
)
-
CenterY
(
type: esriFieldTypeDouble, alias: CenterY
)
-
ZOrder
(
type: esriFieldTypeInteger, alias: ZOrder
)
-
Shape_Length
(
type: esriFieldTypeDouble, alias: Shape_Length
)
-
Shape_Area
(
type: esriFieldTypeDouble, alias: Shape_Area
)
Default Mosaic Method: Northwest
Allowed Mosaic Methods: NorthWest,Center,LockRaster,ByAttribute,Nadir,Viewpoint,Seamline,None
SortField:
SortValue: null
Mosaic Operator: First
Default Compression Quality: 75
Default Resampling Method: Bilinear
Max Record Count: 1000
Max Image Height: 4100
Max Image Width: 15000
Max Download Image Count: 20
Max Mosaic Image Count: 20
Allow Raster Function: true
Allow Copy: true
Allow Analysis: true
Allow Compute TiePoints: false
Supports Statistics: true
Supports Advanced Queries: true
Use StandardizedQueries: true
Raster Type Infos:
Name: Raster Dataset
Description: Supports all ArcGIS Raster Datasets
Help:
Has Raster Attribute Table: false
Edit Fields Info: null
Ownership Based AccessControl For Rasters: null
Child Resources:
Info
Histograms
Statistics
Key Properties
Legend
Raster Function Infos
Supported Operations:
Export Image
Query
Identify
Compute Histograms
Compute Statistics Histograms
Get Samples
Compute Class Statistics
Query Boundary
Compute Pixel Location
Compute Angles
Validate
Project